BEGIN:VCALENDAR
VERSION:2.0
CALSCALE:GREGORIAN
BEGIN:VEVENT
DTSTAMP:20260420T214240
DTSTART:20260612T100000
DTEND:20260614T160000
SUMMARY:27th Annual Anderson Valley Pinot Noir Festival
DESCRIPTION:Event Info: https://www.localwineevents.com/view/event/27th-annual-anderson-valley-pinot-noir-festival/980050
LOCATION:Scharffenberger Cellars + Other Locations Throughout Anderson Valley -- 8501 CA-128 Philo, CA 95466
STATUS:CONFIRMED
SEQUENCE:0
TRANSP:OPAQUE
END:VEVENT
END:VCALENDAR
