BEGIN:VCALENDAR
VERSION:2.0
CALSCALE:GREGORIAN
BEGIN:VEVENT
DTSTAMP:20260421T183632
DTSTART:20260502T110000
DTEND:20260502T180000
SUMMARY:11th Annual Twice As Fine Texarkana Wine Festival
DESCRIPTION:Event Info: https://www.localwineevents.com/view/event/11th-annual-twice-as-fine-texarkana-wine-festival/978814
LOCATION:Spring Lake Park -- 4303 N Park Rd Texarkana, TX 75503
STATUS:CONFIRMED
SEQUENCE:0
TRANSP:OPAQUE
END:VEVENT
END:VCALENDAR
