BEGIN:VCALENDAR
VERSION:2.0
CALSCALE:GREGORIAN
BEGIN:VEVENT
DTSTAMP:20260421T152422
DTSTART:20260425T170000
DTEND:20260425T180000
SUMMARY:Salud! An Introduction To Tequila  Mezcal
DESCRIPTION:Event Info: https://www.localwineevents.com/view/event/salud-an-introduction-to-tequila-mezcal/977940
LOCATION:Total Wine  More | 2701 184th ST SW STE 108B nul -- 2701 184th ST SW STE 108B null Lynnwood, Washington 98037
STATUS:CONFIRMED
SEQUENCE:0
TRANSP:OPAQUE
END:VEVENT
END:VCALENDAR
