BEGIN:VCALENDAR
VERSION:2.0
CALSCALE:GREGORIAN
BEGIN:VEVENT
DTSTAMP:20260420T213504
DTSTART:20260425T170000
DTEND:20260425T183000
SUMMARY:Pop Open A PartyGreat Sparkling Wines
DESCRIPTION:Event Info: https://www.localwineevents.com/view/event/pop-open-a-partygreat-sparkling-wines/977858
LOCATION:Total Wine  More | 221 North Glendale Ave. nul -- 221 North Glendale Ave. null Glendale, California 91206
STATUS:CONFIRMED
SEQUENCE:0
TRANSP:OPAQUE
END:VEVENT
END:VCALENDAR
