BEGIN:VCALENDAR
VERSION:2.0
CALSCALE:GREGORIAN
BEGIN:VEVENT
DTSTAMP:20260420T100626
DTSTART:20260116T120000
DTEND:20260118T170000
SUMMARY:Sips  Soups
DESCRIPTION:Event Info: https://www.localwineevents.com/view/event/sips-soups/977030
LOCATION:Leelanau Peninsula Wine Trail -- 10781 EAST CHERRY BEND ROAD Traverse City, MI 49684
STATUS:CONFIRMED
SEQUENCE:0
TRANSP:OPAQUE
END:VEVENT
END:VCALENDAR
