BEGIN:VCALENDAR
VERSION:2.0
CALSCALE:GREGORIAN
BEGIN:VEVENT
DTSTAMP:20260422T232945
DTSTART:20260423T183000
DTEND:20260423T200000
SUMMARY:Pop Open A PartyGreat Sparkling Wines
DESCRIPTION:Event Info: https://www.localwineevents.com/view/event/pop-open-a-partygreat-sparkling-wines/976616
LOCATION:Total Wine  More | 1010 North Rengstorff Ave nul -- 1010 North Rengstorff Ave null Mountain View, California 94043
STATUS:CONFIRMED
SEQUENCE:0
TRANSP:OPAQUE
END:VEVENT
END:VCALENDAR
