BEGIN:VCALENDAR
VERSION:2.0
CALSCALE:GREGORIAN
BEGIN:VEVENT
DTSTAMP:20260421T223313
DTSTART:20260423T180000
DTEND:20260423T193000
SUMMARY:Pop Open A PartyGreat Sparkling Wines
DESCRIPTION:Event Info: https://www.localwineevents.com/view/event/pop-open-a-partygreat-sparkling-wines/976556
LOCATION:Total Wine  More | 6400 W Plano Pkwy nul -- 6400 W Plano Pkwy null Plano, Texas 75093
STATUS:CONFIRMED
SEQUENCE:0
TRANSP:OPAQUE
END:VEVENT
END:VCALENDAR
