BEGIN:VCALENDAR
VERSION:2.0
CALSCALE:GREGORIAN
BEGIN:VEVENT
DTSTAMP:20260421T130148
DTSTART:20251231T170000
DTEND:20251231T000000
SUMMARY:DINNER - New Years Eve
DESCRIPTION:Event Info: https://www.localwineevents.com/view/event/dinner---new-years-eve/975333
LOCATION:La Grande Boucherie - Chicago -- 431 N Dearborn St Chicago, IL 60654
STATUS:CONFIRMED
SEQUENCE:0
TRANSP:OPAQUE
END:VEVENT
END:VCALENDAR
