BEGIN:VCALENDAR
VERSION:2.0
CALSCALE:GREGORIAN
BEGIN:VEVENT
DTSTAMP:20260420T100647
DTSTART:20251230T180000
DTEND:20251230T200000
SUMMARY:The Year In Spirits  The 2026 Flavor Forecast
DESCRIPTION:Event Info: https://www.localwineevents.com/view/event/the-year-in-spirits-the-2026-flavor-forecast/974346
LOCATION:530 NW 77th St -- 530 Northwest 77th Street Boca Raton, FL 33487
STATUS:CONFIRMED
SEQUENCE:0
TRANSP:OPAQUE
END:VEVENT
END:VCALENDAR
