BEGIN:VCALENDAR
VERSION:2.0
CALSCALE:GREGORIAN
BEGIN:VEVENT
DTSTAMP:20260420T094458
DTSTART:20260122T190000
DTEND:20260125T140000
SUMMARY:Sun Wine  Food Fest 2026
DESCRIPTION:Event Info: https://www.localwineevents.com/view/event/sun-wine-food-fest-2026/964650
LOCATION:Mohegan Sun -- 1 Mohegan Sun Boulevard Uncasville, CT 06382
STATUS:CONFIRMED
SEQUENCE:0
TRANSP:OPAQUE
END:VEVENT
END:VCALENDAR
