BEGIN:VCALENDAR
VERSION:2.0
CALSCALE:GREGORIAN
BEGIN:VEVENT
DTSTAMP:20260423T123758
DTSTART:20260124T143000
DTEND:20260124T180000
SUMMARY:2026 Chicago Winter Whiskey Tasting Festival (January 24)
DESCRIPTION:Event Info: https://www.localwineevents.com/view/event/2026-chicago-winter-whiskey-tasting-festival-january-24/961295
LOCATION:Downtown Chicago -- Downtown Chicago Chicago, IL 60601
STATUS:CONFIRMED
SEQUENCE:0
TRANSP:OPAQUE
END:VEVENT
END:VCALENDAR
