BEGIN:VCALENDAR
VERSION:2.0
CALSCALE:GREGORIAN
BEGIN:VEVENT
DTSTAMP:20260423T115631
DTSTART:20250830T110000
DTEND:20250920T123000
SUMMARY:Saturday Vineyard And Winery Tour With Rose
DESCRIPTION:Event Info: https://www.localwineevents.com/view/event/saturday-vineyard-and-winery-tour-with-rose/956340
LOCATION:Bet the Farm Winery -- 4204 Krum\'s Corners Rd. Trumansburg, NY 14886
STATUS:CONFIRMED
SEQUENCE:0
TRANSP:OPAQUE
END:VEVENT
END:VCALENDAR
