BEGIN:VCALENDAR
VERSION:2.0
CALSCALE:GREGORIAN
BEGIN:VEVENT
DTSTAMP:20260422T131553
DTSTART:20250808T190000
DTEND:20250808T220000
SUMMARY:Premium Cheese  Wine Masterclass In La Bibliotheque By Chevre
DESCRIPTION:Event Info: https://www.localwineevents.com/view/event/premium-cheese-wine-masterclass-in-la-bibliotheque-by-chevre/951820
LOCATION:La Bibliotheque By Chevre Miami -- 1295 Coral Way Miami, FL 33145
STATUS:CONFIRMED
SEQUENCE:0
TRANSP:OPAQUE
END:VEVENT
END:VCALENDAR
