BEGIN:VCALENDAR
VERSION:2.0
CALSCALE:GREGORIAN
BEGIN:VEVENT
DTSTAMP:20260423T085715
DTSTART:20250626T190000
DTEND:20250626T220000
SUMMARY:A Night Of Italian Classics In La Bibliotheque By Chevre
DESCRIPTION:Event Info: https://www.localwineevents.com/view/event/a-night-of-italian-classics-in-la-bibliotheque-by-chevre/944742
LOCATION:La Bibliothque By Chvre Miami -- 1295 Southwest 22nd St Miami, FL 33145
STATUS:CONFIRMED
SEQUENCE:0
TRANSP:OPAQUE
END:VEVENT
END:VCALENDAR
