BEGIN:VCALENDAR
VERSION:2.0
CALSCALE:GREGORIAN
BEGIN:VEVENT
DTSTAMP:20260421T124750
DTSTART:20250607T130000
DTEND:20250622T160000
SUMMARY:20 For 20 Wine Tasting: Off The Beaten Vine; Rare  Unique Wines
DESCRIPTION:Event Info: https://www.localwineevents.com/view/event/20-for-20-wine-tasting-off-the-beaten-vine-rare-unique-wines/942582
LOCATION:Ella Elli -- 1349 West Cornelia Avenue Chicago, IL 60657
STATUS:CONFIRMED
SEQUENCE:0
TRANSP:OPAQUE
END:VEVENT
END:VCALENDAR
