BEGIN:VCALENDAR
VERSION:2.0
CALSCALE:GREGORIAN
BEGIN:VEVENT
DTSTAMP:20260423T120455
DTSTART:20250603T183000
DTEND:20250701T200000
SUMMARY:Tasting Tuesdays With Michelle
DESCRIPTION:Event Info: https://www.localwineevents.com/view/event/tasting-tuesdays-with-michelle/939903
LOCATION:Glenora Wine Cellars -- 5435 State Route 14 Dundee, NY 14837
STATUS:CONFIRMED
SEQUENCE:0
TRANSP:OPAQUE
END:VEVENT
END:VCALENDAR
