BEGIN:VCALENDAR
VERSION:2.0
CALSCALE:GREGORIAN
BEGIN:VEVENT
DTSTAMP:20260421T105001
DTSTART:20250604T170000
DTEND:20250604T220000
SUMMARY:Endless Tuna Series, Part One
DESCRIPTION:Event Info: https://www.localwineevents.com/view/event/endless-tuna-series-part-one/939558
LOCATION:TSUMO - UWS -- 782 Amsterdam Avenue New York, NY 10025
STATUS:CONFIRMED
SEQUENCE:0
TRANSP:OPAQUE
END:VEVENT
END:VCALENDAR
