BEGIN:VCALENDAR
VERSION:2.0
CALSCALE:GREGORIAN
BEGIN:VEVENT
DTSTAMP:20260420T101325
DTSTART:20250516T190000
DTEND:20250516T220000
SUMMARY:The Grape  The Plate: A Pop-Up Culinary Experience
DESCRIPTION:Event Info: https://www.localwineevents.com/view/event/the-grape-the-plate-a-pop-up-culinary-experience/935994
LOCATION:Mira Mira Venue -- 2505-A East 6th Street Austin, TX 78702
STATUS:CONFIRMED
SEQUENCE:0
TRANSP:OPAQUE
END:VEVENT
END:VCALENDAR
