BEGIN:VCALENDAR
VERSION:2.0
CALSCALE:GREGORIAN
BEGIN:VEVENT
DTSTAMP:20260423T121622
DTSTART:20250823T110000
DTEND:20250824T210000
SUMMARY:Lakeview Taco Fest
DESCRIPTION:Event Info: https://www.localwineevents.com/view/event/lakeview-taco-fest/930411
LOCATION:3500 N Southport Ave -- 3500 N Southport Ave Chicago, IL 60657
STATUS:CONFIRMED
SEQUENCE:0
TRANSP:OPAQUE
END:VEVENT
END:VCALENDAR
