BEGIN:VCALENDAR
VERSION:2.0
CALSCALE:GREGORIAN
BEGIN:VEVENT
DTSTAMP:20260423T120543
DTSTART:20250401T170000
DTEND:20250401T210000
SUMMARY:Wine, Dine  Donate | Wine Pairing Dinner At Graft  Wine+Cider Bar
DESCRIPTION:Event Info: https://www.localwineevents.com/view/event/wine-dine-donate-wine-pairing-dinner-at-graft-winecider-bar/928228
LOCATION:Graft Wine + Cider Bar -- 204 North Franklin Street Watkins Glen, NY 14891
STATUS:CONFIRMED
SEQUENCE:0
TRANSP:OPAQUE
END:VEVENT
END:VCALENDAR
