BEGIN:VCALENDAR
VERSION:2.0
CALSCALE:GREGORIAN
BEGIN:VEVENT
DTSTAMP:20260423T121505
DTSTART:20250323T150000
DTEND:20250330T180000
SUMMARY:You Be The Judge - Wine  Chocolate
DESCRIPTION:Event Info: https://www.localwineevents.com/view/event/you-be-the-judge---wine-chocolate/928176
LOCATION:Bet the Farm Winery -- 4204 Krum\'s Corners Rd. Trumansburg, NY 14886
STATUS:CONFIRMED
SEQUENCE:0
TRANSP:OPAQUE
END:VEVENT
END:VCALENDAR
