BEGIN:VCALENDAR
VERSION:2.0
CALSCALE:GREGORIAN
BEGIN:VEVENT
DTSTAMP:20260422T132200
DTSTART:20250713T120000
DTEND:20250720T180000
SUMMARY:Crested Butte Wine + Food Festival
DESCRIPTION:Event Info: https://www.localwineevents.com/view/event/crested-butte-wine-food-festival/927007
LOCATION:Center for the Arts Crested Butte -- 606 Sixth St Crested Butte, CO 81224
STATUS:CONFIRMED
SEQUENCE:0
TRANSP:OPAQUE
END:VEVENT
END:VCALENDAR
