BEGIN:VCALENDAR
VERSION:2.0
CALSCALE:GREGORIAN
BEGIN:VEVENT
DTSTAMP:20260419T085553
DTSTART:20250925T183000
DTEND:20250925T213000
SUMMARY:Cider Fest 2025
DESCRIPTION:Event Info: https://www.localwineevents.com/view/event/cider-fest-2025/925423
LOCATION:Artifact Events -- 4325 N Ravenswood Avenue Chicago, IL 60613
STATUS:CONFIRMED
SEQUENCE:0
TRANSP:OPAQUE
END:VEVENT
END:VCALENDAR
