BEGIN:VCALENDAR
VERSION:2.0
CALSCALE:GREGORIAN
BEGIN:VEVENT
DTSTAMP:20260423T104418
DTSTART:20250208T173000
DTEND:20250208T210000
SUMMARY:Murder At The Grand Gatsby Speakeasy : A Murder Mystery Dinner Party
DESCRIPTION:Event Info: https://www.localwineevents.com/view/event/murder-at-the-grand-gatsby-speakeasy-a-murder-mystery-dinner-party/920110
LOCATION:Stonecat: Regional Cuisine  Bar -- 5315 New York 414 Hector, NY 14841
STATUS:CONFIRMED
SEQUENCE:0
TRANSP:OPAQUE
END:VEVENT
END:VCALENDAR
