BEGIN:VCALENDAR
VERSION:2.0
CALSCALE:GREGORIAN
BEGIN:VEVENT
DTSTAMP:20260421T124200
DTSTART:20250808T170000
DTEND:20250810T170000
SUMMARY:The Craft Beer  Wine Festival
DESCRIPTION:Event Info: https://www.localwineevents.com/view/event/the-craft-beer-wine-festival/917925
LOCATION:Esther Short Park -- 605 Esther St Vancouver, WA 98660
STATUS:CONFIRMED
SEQUENCE:0
TRANSP:OPAQUE
END:VEVENT
END:VCALENDAR
