BEGIN:VCALENDAR
VERSION:2.0
CALSCALE:GREGORIAN
BEGIN:VEVENT
DTSTAMP:20260423T120525
DTSTART:20241207T130000
DTEND:20241207T190000
SUMMARY:Holiday Mule  Mimosa Fest - Sat Dec 7th
DESCRIPTION:Event Info: https://www.localwineevents.com/view/event/holiday-mule-mimosa-fest---sat-dec-7th/908117
LOCATION:1290 University Ave -- 1290 University Avenue Rochester, NY 14607
STATUS:CONFIRMED
SEQUENCE:0
TRANSP:OPAQUE
END:VEVENT
END:VCALENDAR
