BEGIN:VCALENDAR
VERSION:2.0
CALSCALE:GREGORIAN
BEGIN:VEVENT
DTSTAMP:20260423T104406
DTSTART:20241115T180000
DTEND:20241115T200000
SUMMARY:Fundraiser To Support Chefs Affected By Hurricane Helene
DESCRIPTION:Event Info: https://www.localwineevents.com/view/event/fundraiser-to-support-chefs-affected-by-hurricane-helene/903430
LOCATION:Bright Leaf Vineyard -- 1250 Clearview Road King Ferry, NY 13081
STATUS:CONFIRMED
SEQUENCE:0
TRANSP:OPAQUE
END:VEVENT
END:VCALENDAR
