BEGIN:VCALENDAR
VERSION:2.0
CALSCALE:GREGORIAN
BEGIN:VEVENT
DTSTAMP:20260423T115631
DTSTART:20241102T120000
DTEND:20241102T170000
SUMMARY:Rock Stream Winery Halloween Fest, Sat. Nov. 2nd, Free Admission
DESCRIPTION:Event Info: https://www.localwineevents.com/view/event/rock-stream-winery-halloween-fest-sat-nov-2nd-free-admission/902825
LOCATION:Rock Stream Vineyards -- 162 Fir Tree Point Rd Rock Stream, NY 14878
STATUS:CONFIRMED
SEQUENCE:0
TRANSP:OPAQUE
END:VEVENT
END:VCALENDAR
