BEGIN:VCALENDAR
VERSION:2.0
CALSCALE:GREGORIAN
BEGIN:VEVENT
DTSTAMP:20260423T115205
DTSTART:20240917T190000
DTEND:20240917T203000
SUMMARY:Premium Texas Wine  Cheese Tasting Experience
DESCRIPTION:Event Info: https://www.localwineevents.com/view/event/premium-texas-wine-cheese-tasting-experience/892205
LOCATION:Lone Star Wine Cellars -- 103 East Virginia Street McKinney, TX 75069
STATUS:CONFIRMED
SEQUENCE:0
TRANSP:OPAQUE
END:VEVENT
END:VCALENDAR
