BEGIN:VCALENDAR
VERSION:2.0
CALSCALE:GREGORIAN
BEGIN:VEVENT
DTSTAMP:20260422T132049
DTSTART:20240907T180000
DTEND:20240907T220000
SUMMARY:28th  Annual VillageFest
DESCRIPTION:Event Info: https://www.localwineevents.com/view/event/28th-annual-villagefest/890679
LOCATION:Kern Pioneer Village -- 3801 Chester Ave Bakersfield, CA 93301
STATUS:CONFIRMED
SEQUENCE:0
TRANSP:OPAQUE
END:VEVENT
END:VCALENDAR
