BEGIN:VCALENDAR
VERSION:2.0
CALSCALE:GREGORIAN
BEGIN:VEVENT
DTSTAMP:20260423T121546
DTSTART:20240713T140000
DTEND:20240713T200000
SUMMARY:Margarita  Mimosa Fest - Canandaigua Lake
DESCRIPTION:Event Info: https://www.localwineevents.com/view/event/margarita-mimosa-fest---canandaigua-lake/882083
LOCATION:60 Lakeshore Dr -- 60 Lakeshore Drive Canandaigua, NY 14424
STATUS:CONFIRMED
SEQUENCE:0
TRANSP:OPAQUE
END:VEVENT
END:VCALENDAR
