BEGIN:VCALENDAR
VERSION:2.0
CALSCALE:GREGORIAN
BEGIN:VEVENT
DTSTAMP:20260423T115728
DTSTART:20240630T140000
DTEND:20240630T160000
SUMMARY:Beer Vs Wine Pairing Showdown Featuring Montezuma Winery And Naked Dove Brewing Company
DESCRIPTION:Event Info: https://www.localwineevents.com/view/event/beer-vs-wine-pairing-showdown-featuring-montezuma-winery-and-naked-dove-brewing-company/880128
LOCATION:Dicky\'s Corner Pub -- 791 Meigs Street Rochester, NY 14620
STATUS:CONFIRMED
SEQUENCE:0
TRANSP:OPAQUE
END:VEVENT
END:VCALENDAR
