BEGIN:VCALENDAR
VERSION:2.0
CALSCALE:GREGORIAN
BEGIN:VEVENT
DTSTAMP:20260419T085827
DTSTART:20240618T190000
DTEND:20240618T210000
SUMMARY:Peruvian Cooking Class For Two @ Pisco Y Nazca Coral Gables
DESCRIPTION:Event Info: https://www.localwineevents.com/view/event/peruvian-cooking-class-for-two-pisco-y-nazca-coral-gables/877569
LOCATION:Pisco y Nazca Ceviche Gastrobar -- 101 Miracle Mile Coral Gables, FL 33134
STATUS:CONFIRMED
SEQUENCE:0
TRANSP:OPAQUE
END:VEVENT
END:VCALENDAR
