BEGIN:VCALENDAR
VERSION:2.0
CALSCALE:GREGORIAN
BEGIN:VEVENT
DTSTAMP:20260423T183705
DTSTART:20240530T180000
DTEND:20240530T210000
SUMMARY:Sun Moon Rising: A Zodiac-inspired Blind Wine Tasting
DESCRIPTION:Event Info: https://www.localwineevents.com/view/event/sun-moon-rising-a-zodiac-inspired-blind-wine-tasting/874828
LOCATION:Tambaran Gallery, East 82nd Street, New York, NY, USA -- 5 East 82nd Street New York, NY 10028
STATUS:CONFIRMED
SEQUENCE:0
TRANSP:OPAQUE
END:VEVENT
END:VCALENDAR
