BEGIN:VCALENDAR
VERSION:2.0
CALSCALE:GREGORIAN
BEGIN:VEVENT
DTSTAMP:20260423T104407
DTSTART:20240321T180000
DTEND:20240321T210000
SUMMARY:Magician\'s Garrett Thomas  Joe Maxwell At Treleaven Wines
DESCRIPTION:Event Info: https://www.localwineevents.com/view/event/magicians-garrett-thomas-joe-maxwell-at-treleaven-wines/863735
LOCATION:Treleaven Wines, Lake Road, King Ferry, NY, USA -- 658 Lake Road King Ferry, NY 13081
STATUS:CONFIRMED
SEQUENCE:0
TRANSP:OPAQUE
END:VEVENT
END:VCALENDAR
