BEGIN:VCALENDAR
VERSION:2.0
CALSCALE:GREGORIAN
BEGIN:VEVENT
DTSTAMP:20260421T125000
DTSTART:20240307T190000
DTEND:20240308T010000
SUMMARY:UTOPIA An RB Dinner Party THURSDAYS At Lima Twist
DESCRIPTION:Event Info: https://www.localwineevents.com/view/event/utopia-an-rb-dinner-party-thursdays-at-lima-twist/861273
LOCATION:Lima twist -- 1411 k st nw Washington, DC 20005
STATUS:CONFIRMED
SEQUENCE:0
TRANSP:OPAQUE
END:VEVENT
END:VCALENDAR
