BEGIN:VCALENDAR
VERSION:2.0
CALSCALE:GREGORIAN
BEGIN:VEVENT
DTSTAMP:20260419T092236
DTSTART:20240301T190000
DTEND:20240301T220000
SUMMARY:Charlotte Maggiano\'s Murder Mystery Dinner - Midnight At The Masquerade
DESCRIPTION:Event Info: https://www.localwineevents.com/view/event/charlotte-maggianos-murder-mystery-dinner---midnight-at-the-masquerade/860431
LOCATION:Maggiano\'s Little Italy -- 4400 Sharon Rd Charlotte, NC 28211
STATUS:CONFIRMED
SEQUENCE:0
TRANSP:OPAQUE
END:VEVENT
END:VCALENDAR
