BEGIN:VCALENDAR
VERSION:2.0
CALSCALE:GREGORIAN
BEGIN:VEVENT
DTSTAMP:20260423T161546
DTSTART:20240218T140000
DTEND:20240218T150000
SUMMARY:Valentine\'s Day Cider  Wine Event
DESCRIPTION:Event Info: https://www.localwineevents.com/view/event/valentines-day-cider-wine-event/858320
LOCATION:Nosey Palate -- 1516 North 5th Street Philadelphia, PA 19122
STATUS:CONFIRMED
SEQUENCE:0
TRANSP:OPAQUE
END:VEVENT
END:VCALENDAR
