BEGIN:VCALENDAR
VERSION:2.0
CALSCALE:GREGORIAN
BEGIN:VEVENT
DTSTAMP:20260423T121505
DTSTART:20240316T120000
DTEND:20240316T160000
SUMMARY:Burning Of The Canes At Fox Run Vineyards
DESCRIPTION:Event Info: https://www.localwineevents.com/view/event/burning-of-the-canes-at-fox-run-vineyards/857807
LOCATION:Fox Run Vineyards -- 670 State Route 14 Penn Yan, NY 14527
STATUS:CONFIRMED
SEQUENCE:0
TRANSP:OPAQUE
END:VEVENT
END:VCALENDAR
