BEGIN:VCALENDAR
VERSION:2.0
CALSCALE:GREGORIAN
BEGIN:VEVENT
DTSTAMP:20260420T143254
DTSTART:20240420T000000
DTEND:20240421T000000
SUMMARY:Wine 4 Paws
DESCRIPTION:Event Info: https://www.localwineevents.com/view/event/wine-4-paws/857727
LOCATION:Participating Businesses Throughout SLO County -- 875 Oklahoma Ave San Luis Obispo, CA 93405
STATUS:CONFIRMED
SEQUENCE:0
TRANSP:OPAQUE
END:VEVENT
END:VCALENDAR
