BEGIN:VCALENDAR
VERSION:2.0
CALSCALE:GREGORIAN
BEGIN:VEVENT
DTSTAMP:20260423T104623
DTSTART:20240207T171500
DTEND:20240207T201500
SUMMARY:February City Walk
DESCRIPTION:Event Info: https://www.localwineevents.com/view/event/february-city-walk/857169
LOCATION:Black Button Distilling -- 1344 University Ave. Rochester, NY 14607
STATUS:CONFIRMED
SEQUENCE:0
TRANSP:OPAQUE
END:VEVENT
END:VCALENDAR
