BEGIN:VCALENDAR
VERSION:2.0
CALSCALE:GREGORIAN
BEGIN:VEVENT
DTSTAMP:20260423T102953
DTSTART:20240128T100000
DTEND:20240128T104500
SUMMARY:January Beer Yoga At Other Half Brewery
DESCRIPTION:Event Info: https://www.localwineevents.com/view/event/january-beer-yoga-at-other-half-brewery/853861
LOCATION:Other Half Brewing Company: Finger Lakes -- 6621 State Rte 5 And 20 Bloomfield, NY 14469
STATUS:CONFIRMED
SEQUENCE:0
TRANSP:OPAQUE
END:VEVENT
END:VCALENDAR
