BEGIN:VCALENDAR
VERSION:2.0
CALSCALE:GREGORIAN
BEGIN:VEVENT
DTSTAMP:20260423T104418
DTSTART:20240209T100000
DTEND:20240211T180000
SUMMARY:French Romance: A Delightful Tasting Experience For Valentine\'s Weekend
DESCRIPTION:Event Info: https://www.localwineevents.com/view/event/french-romance-a-delightful-tasting-experience-for-valentines-weekend/853795
LOCATION:Domaine LeSeurre Winery -- 13920 NY-54 Hammondsport, NY 14840
STATUS:CONFIRMED
SEQUENCE:0
TRANSP:OPAQUE
END:VEVENT
END:VCALENDAR
