BEGIN:VCALENDAR
VERSION:2.0
CALSCALE:GREGORIAN
BEGIN:VEVENT
DTSTAMP:20260423T154849
DTSTART:20240122T100000
DTEND:20240122T110000
SUMMARY:Pickleball
DESCRIPTION:Event Info: https://www.localwineevents.com/view/event/pickleball/853133
LOCATION:Bobby Riggs Racket  Paddle -- 875 Santa Fe Drive Encinitas, CA 92024
STATUS:CONFIRMED
SEQUENCE:0
TRANSP:OPAQUE
END:VEVENT
END:VCALENDAR
