BEGIN:VCALENDAR
VERSION:2.0
CALSCALE:GREGORIAN
BEGIN:VEVENT
DTSTAMP:20260423T121506
DTSTART:20231223T130000
DTEND:20231223T153000
SUMMARY:Charcuterie Board  Wine Tasting
DESCRIPTION:Event Info: https://www.localwineevents.com/view/event/charcuterie-board-wine-tasting/849306
LOCATION:1 W Main St -- 1 West Main Street Dryden, NY 13053
STATUS:CONFIRMED
SEQUENCE:0
TRANSP:OPAQUE
END:VEVENT
END:VCALENDAR
