BEGIN:VCALENDAR
VERSION:2.0
CALSCALE:GREGORIAN
BEGIN:VEVENT
DTSTAMP:20260420T100647
DTSTART:20231209T110000
DTEND:20231209T170000
SUMMARY:Holiday Fineries At The Wineries  Start At Warwick Valley Winery SATURDAY
DESCRIPTION:Event Info: https://www.localwineevents.com/view/event/holiday-fineries-at-the-wineries-start-at-warwick-valley-winery-saturday/847082
LOCATION:Warwick Valley Winery  Distillery -- 114 Little York Road Warwick, NY 10990
STATUS:CONFIRMED
SEQUENCE:0
TRANSP:OPAQUE
END:VEVENT
END:VCALENDAR
