BEGIN:VCALENDAR
VERSION:2.0
CALSCALE:GREGORIAN
BEGIN:VEVENT
DTSTAMP:20260419T101432
DTSTART:20231125T110000
DTEND:20231125T170000
SUMMARY:Small Business Saturday - Live Music
DESCRIPTION:Event Info: https://www.localwineevents.com/view/event/small-business-saturday---live-music/843275
LOCATION:Setter Ridge Vineyards -- 99 Dietrich Valley Road Kutztown, Pennsylvania 19530
STATUS:CONFIRMED
SEQUENCE:0
TRANSP:OPAQUE
END:VEVENT
END:VCALENDAR
