BEGIN:VCALENDAR
VERSION:2.0
CALSCALE:GREGORIAN
BEGIN:VEVENT
DTSTAMP:20260419T101432
DTSTART:20231125T110000
DTEND:20231126T163000
SUMMARY:Gourmet Popcorn Flights At Setter Ridge Vineyards
DESCRIPTION:Event Info: https://www.localwineevents.com/view/event/gourmet-popcorn-flights-at-setter-ridge-vineyards/843264
LOCATION:Setter Ridge Vineyards -- 99 Dietrich Valley Road Kutztown, Pennsylvania 19530
STATUS:CONFIRMED
SEQUENCE:0
TRANSP:OPAQUE
END:VEVENT
END:VCALENDAR
