BEGIN:VCALENDAR
VERSION:2.0
CALSCALE:GREGORIAN
BEGIN:VEVENT
DTSTAMP:20260420T094458
DTSTART:20240921T000000
DTEND:20240921T000000
SUMMARY:Boutique Small Group Italian Wine And Food Sicilian Experience
DESCRIPTION:Event Info: https://www.localwineevents.com/view/trip/boutique-small-group-italian-wine-and-food-sicilian-experience/837628
LOCATION:
STATUS:CONFIRMED
SEQUENCE:0
TRANSP:OPAQUE
END:VEVENT
END:VCALENDAR
