BEGIN:VCALENDAR
VERSION:2.0
CALSCALE:GREGORIAN
BEGIN:VEVENT
DTSTAMP:20260420T094534
DTSTART:20240908T000000
DTEND:20240908T000000
SUMMARY:Waitlist Only - Howard\'s Spanish Wine Tour 2024.  Email For 2025 Info.
DESCRIPTION:Event Info: https://www.localwineevents.com/view/trip/waitlist-only---howards-spanish-wine-tour-2024-email-for-2025-info/837195
LOCATION:
STATUS:CONFIRMED
SEQUENCE:0
TRANSP:OPAQUE
END:VEVENT
END:VCALENDAR
